BEGIN:VCALENDAR
VERSION:2.0
PRODID:-//wp-events-plugin.com//7.2.3.1//EN
TZID:Europe/Warsaw
X-WR-TIMEZONE:Europe/Warsaw
BEGIN:VEVENT
UID:2854@parafiaopaczewska.pl
DTSTART;TZID=Europe/Warsaw:20251019T183000
DTEND;TZID=Europe/Warsaw:20251019T193000
DTSTAMP:20251016T110839Z
URL:https://parafiaopaczewska.pl/events/msza-swieta-niedzielna-godz-1830-2
 025-10-19/
SUMMARY:Msza Święta Niedzielna - godz. 18:30
DESCRIPTION:
CATEGORIES:Msza Święta Niedzielna
LOCATION:Parafia NMP Królowej Świata – Kościół górny\, ul. Opaczews
 ka 20\, Warszawa\, Polska\, 02-372\, Mazowieckie\, Poland
X-APPLE-STRUCTURED-LOCATION;VALUE=URI;X-ADDRESS=ul. Opaczewska 20\, Warszaw
 a\, Polska\, 02-372\, Mazowieckie\, Poland;X-APPLE-RADIUS=100;X-TITLE=Para
 fia NMP Królowej Świata – Kościół górny:geo:0,0
END:VEVENT
BEGIN:VTIMEZONE
TZID:Europe/Warsaw
X-LIC-LOCATION:Europe/Warsaw
BEGIN:DAYLIGHT
DTSTART:20250330T030000
TZOFFSETFROM:+0100
TZOFFSETTO:+0200
TZNAME:CEST
END:DAYLIGHT
END:VTIMEZONE
END:VCALENDAR